BEGIN:VCALENDAR
VERSION:2.0
PRODID:-//ANZICS - ECPv6.15.17.1//NONSGML v1.0//EN
CALSCALE:GREGORIAN
METHOD:PUBLISH
X-WR-CALNAME:ANZICS
X-ORIGINAL-URL:https://www.anzics.org
X-WR-CALDESC:Events for ANZICS
REFRESH-INTERVAL;VALUE=DURATION:PT1H
X-Robots-Tag:noindex
X-PUBLISHED-TTL:PT1H
BEGIN:VTIMEZONE
TZID:Australia/Melbourne
BEGIN:STANDARD
TZOFFSETFROM:+1100
TZOFFSETTO:+1000
TZNAME:AEST
DTSTART:20250405T160000
END:STANDARD
BEGIN:DAYLIGHT
TZOFFSETFROM:+1000
TZOFFSETTO:+1100
TZNAME:AEDT
DTSTART:20251004T160000
END:DAYLIGHT
BEGIN:STANDARD
TZOFFSETFROM:+1100
TZOFFSETTO:+1000
TZNAME:AEST
DTSTART:20260404T160000
END:STANDARD
BEGIN:DAYLIGHT
TZOFFSETFROM:+1000
TZOFFSETTO:+1100
TZNAME:AEDT
DTSTART:20261003T160000
END:DAYLIGHT
BEGIN:STANDARD
TZOFFSETFROM:+1100
TZOFFSETTO:+1000
TZNAME:AEST
DTSTART:20270403T160000
END:STANDARD
BEGIN:DAYLIGHT
TZOFFSETFROM:+1000
TZOFFSETTO:+1100
TZNAME:AEDT
DTSTART:20271002T160000
END:DAYLIGHT
END:VTIMEZONE
BEGIN:VEVENT
DTSTART;VALUE=DATE:20260608
DTEND;VALUE=DATE:20260609
DTSTAMP:20260424T032638
CREATED:20250820T062658Z
LAST-MODIFIED:20251007T022619Z
UID:12863-1780876800-1780963199@www.anzics.org
SUMMARY:King's Official Birthday - Public Holiday - VIC\, NT\, TAS
DESCRIPTION:
URL:https://www.anzics.org/events/kings-official-birthday-public-holiday-vic/
LOCATION:Victoria
CATEGORIES:International
END:VEVENT
BEGIN:VEVENT
DTSTART;VALUE=DATE:20260609
DTEND;VALUE=DATE:20260610
DTSTAMP:20260424T032638
CREATED:20260420T021528Z
LAST-MODIFIED:20260420T022745Z
UID:14075-1780963200-1781049599@www.anzics.org
SUMMARY:ANZPIC Registry Study Day 2026
DESCRIPTION:Dear ANZPICR Contributor\, \n  \nWe are pleased to invite you to the ANZPIC Registry Study Day on Tuesday\, 9 June 2026\, at the ANZICS Building (Level 1\, 101 High Street\, Prahran\, VIC 3181) or at a nearby venue (exact location to be confirmed closer to the date). For those unable to attend in person\, a virtual option will be available via Zoom or Microsoft Teams. \n  \nThe Study Day is designed for staff responsible for the collection and coding of registry data. Our aim is to support high-quality data submission by providing a forum for education\, process discussion\, and sharing ideas about future development of the ANZPIC Registry. Participation will also help reduce time spent on data query resolution and cleaning. \n  \nEvent Details: \nDate: Tuesday\, 9 June 2026 \nTime: 9:30 AM – 4:00 PM AEST \nLocation: ANZICS Building (101 High Street\, Prahran\, VIC 3181)\, or nearby (exact location to be confirmed)\, or online via MS Teams or Zoom. \nCost: Free of charge\, with lunch provided (each unit is expected to support their staff’s travel costs). \nWho should attend: Anyone involved in ANZPIC Registry data collection\, though the workshop is particularly suited to data managers and coders. \n  \nThe program will include practical training\, informational sessions\, and open discussions. Past attendees have valued the Study Day for both professional development and networking opportunities. \n  \nFor inquiries\, contact us at anzpic.data@anzics.org \nWe look forward to seeing you there. \n  \n The ANZPIC Registry Team \n  \nIf you’d like to attend\, please complete the form below by 2 June 2026.  \nPlease enable JavaScript in your browser to complete this form.Name *FirstLastEmail *Hosptial *		\n			How requirements? dietary\n			\n		\n		Current Position *How will you be attending the workshop? *--- Select Choice ---In personOnlineDo you have any dietary requirements? *--- Select Choice ---NA\, I will attend virtuallyNoYesIf yes\, please specify your dietary requirementsComment or MessageSubmit
URL:https://www.anzics.org/events/anzpic-registry-study-day-tuesday-9-june-2026-melbourne-online/
LOCATION:ANZICS\, Melbourne\, Victoria\, 3181\, Australia
END:VEVENT
END:VCALENDAR