BEGIN:VCALENDAR
VERSION:2.0
PRODID:-//ANZICS - ECPv6.15.17.1//NONSGML v1.0//EN
CALSCALE:GREGORIAN
METHOD:PUBLISH
X-ORIGINAL-URL:https://www.anzics.org
X-WR-CALDESC:Events for ANZICS
REFRESH-INTERVAL;VALUE=DURATION:PT1H
X-Robots-Tag:noindex
X-PUBLISHED-TTL:PT1H
BEGIN:VTIMEZONE
TZID:Australia/Melbourne
BEGIN:STANDARD
TZOFFSETFROM:+1100
TZOFFSETTO:+1000
TZNAME:AEST
DTSTART:20250405T160000
END:STANDARD
BEGIN:DAYLIGHT
TZOFFSETFROM:+1000
TZOFFSETTO:+1100
TZNAME:AEDT
DTSTART:20251004T160000
END:DAYLIGHT
BEGIN:STANDARD
TZOFFSETFROM:+1100
TZOFFSETTO:+1000
TZNAME:AEST
DTSTART:20260404T160000
END:STANDARD
BEGIN:DAYLIGHT
TZOFFSETFROM:+1000
TZOFFSETTO:+1100
TZNAME:AEDT
DTSTART:20261003T160000
END:DAYLIGHT
BEGIN:STANDARD
TZOFFSETFROM:+1100
TZOFFSETTO:+1000
TZNAME:AEST
DTSTART:20270403T160000
END:STANDARD
BEGIN:DAYLIGHT
TZOFFSETFROM:+1000
TZOFFSETTO:+1100
TZNAME:AEDT
DTSTART:20271002T160000
END:DAYLIGHT
END:VTIMEZONE
BEGIN:VEVENT
DTSTART;VALUE=DATE:20260227
DTEND;VALUE=DATE:20260302
DTSTAMP:20260424T015653
CREATED:20260115T232649Z
LAST-MODIFIED:20260116T005520Z
UID:13718-1772150400-1772409599@www.anzics.org
SUMMARY:Tropical transoesophageal Perioperative and Intensive care Examination
DESCRIPTION:Course Dates & Registration: \n\nThe course will be held in Melbourne on the following dates: \n\nBasic Course: 27–28 February 2026\nAdvanced Course: 1 March 2026\n\nThose interested in attending can register using the links below. For any questions\, please contact florian.pracher@health.qld.gov.au directly. \nRegistration options: \n\n2‑Day Course (27–28 February): Register here\n3‑Day Course (27 February–1 March): Register here\nAdvanced Day Only (1 March): Register here\n\n\nFor more information\, please see the flyer below: \n			\n				\n					\n						\n							\n							Loading...\n						\n					\n					\n						\n							\n							Taking too long?\n						\n						\n							\n								 Reload document							\n							|\n							\n								 Open in new tab							\n					\n				\n			\n		Download [591.73 KB]
URL:https://www.anzics.org/events/tropical-transoesophageal-perioperative-and-intensive-care-examination-2/
LOCATION:Victorian Heart Hospital\, Melbourne\, Victorian Heart Hospital\, level 2\, room 2.12\, 631 Blackburn Road\, Clayton\, Melbourne\, Victoria\, Australia
END:VEVENT
BEGIN:VEVENT
DTSTART;TZID=Australia/Melbourne:20260227T080000
DTEND;TZID=Australia/Melbourne:20260301T170000
DTSTAMP:20260424T015653
CREATED:20250710T032840Z
LAST-MODIFIED:20250710T033117Z
UID:12643-1772179200-1772384400@www.anzics.org
SUMMARY:Indian Society of Critical Care Medicine Conference
DESCRIPTION:
URL:https://www.anzics.org/events/indian-society-of-critical-care-medicine-conference/
LOCATION:Victoria
CATEGORIES:International
END:VEVENT
BEGIN:VEVENT
DTSTART;VALUE=DATE:20260302
DTEND;VALUE=DATE:20260303
DTSTAMP:20260424T015653
CREATED:20250820T064150Z
LAST-MODIFIED:20250820T064150Z
UID:12879-1772409600-1772495999@www.anzics.org
SUMMARY:Labour Day - Public Holiday - WA
DESCRIPTION:
URL:https://www.anzics.org/events/labour-day-public-holiday-wa/
LOCATION:Victoria
CATEGORIES:International
END:VEVENT
BEGIN:VEVENT
DTSTART;VALUE=DATE:20260309
DTEND;VALUE=DATE:20260310
DTSTAMP:20260424T015653
CREATED:20250820T062537Z
LAST-MODIFIED:20250820T062605Z
UID:12860-1773014400-1773100799@www.anzics.org
SUMMARY:Labour Day - Public Holiday - VIC
DESCRIPTION:
URL:https://www.anzics.org/events/labour-day-public-holiday-australia/
LOCATION:Victoria
CATEGORIES:International
END:VEVENT
BEGIN:VEVENT
DTSTART;VALUE=DATE:20260317
DTEND;VALUE=DATE:20260321
DTSTAMP:20260424T015653
CREATED:20250820T063336Z
LAST-MODIFIED:20250820T063336Z
UID:12871-1773705600-1774051199@www.anzics.org
SUMMARY:International Symposium on Intensive Care and Emergency Medicine - Brussels
DESCRIPTION:
URL:https://www.anzics.org/events/international-symposium-on-intensive-care-and-emergency-medicine-brussels/
LOCATION:Victoria
CATEGORIES:International
END:VEVENT
BEGIN:VEVENT
DTSTART;VALUE=DATE:20260320
DTEND;VALUE=DATE:20260322
DTSTAMP:20260424T015653
CREATED:20260202T013117Z
LAST-MODIFIED:20260202T014813Z
UID:13780-1773964800-1774137599@www.anzics.org
SUMMARY:Sydney Clinical Ethics Intensive 2026
DESCRIPTION:Dates: Friday 20 & Saturday 21 March 2026 \nVenue: Sydney Law School\, University of Sydney \n\n\n\nThe Sydney Clinical Ethics Intensive 2026 is a two‑day\, in‑person education and capacity‑building workshop designed for clinicians and health professionals seeking practical\, real‑world approaches to ethical decision‑making in healthcare. Building on the success of the inaugural program in 2024\, the Intensive brings together Australia’s leading experts in clinical ethics and health law for an engaging and highly interactive learning experience.\n  \nTo know more and register\, please refer the flyer below or follow the link: https://events.humanitix.com/sydney-clinical-ethics-intensive-2026\n  \n			\n				\n					\n						\n							\n							Loading...\n						\n					\n					\n						\n							\n							Taking too long?\n						\n						\n							\n								 Reload document							\n							|\n							\n								 Open in new tab							\n					\n				\n			\n		Download [305.82 KB]
URL:https://www.anzics.org/events/sydney-clinical-ethics-intensive/
LOCATION:Sydney Law School\, University of Sydney\, New South Wales\, Australia
END:VEVENT
BEGIN:VEVENT
DTSTART;VALUE=DATE:20260322
DTEND;VALUE=DATE:20260325
DTSTAMP:20260424T015653
CREATED:20250710T032436Z
LAST-MODIFIED:20250710T032446Z
UID:12641-1774137600-1774396799@www.anzics.org
SUMMARY:Society of Critical Care Medicine Conference
DESCRIPTION:
URL:https://www.anzics.org/events/society-of-critical-care-medicine-conference/
LOCATION:Victoria
CATEGORIES:International
END:VEVENT
BEGIN:VEVENT
DTSTART;VALUE=DATE:20260322
DTEND;VALUE=DATE:20260325
DTSTAMP:20260424T015653
CREATED:20250820T063106Z
LAST-MODIFIED:20250820T063106Z
UID:12869-1774137600-1774396799@www.anzics.org
SUMMARY:2026 Critical Care Congress -SCCM
DESCRIPTION:
URL:https://www.anzics.org/events/2026-critical-care-congress-sccm/
LOCATION:Victoria
CATEGORIES:International
END:VEVENT
BEGIN:VEVENT
DTSTART;VALUE=DATE:20260327
DTEND;VALUE=DATE:20260329
DTSTAMP:20260424T015653
CREATED:20250917T022619Z
LAST-MODIFIED:20250917T022728Z
UID:13217-1774569600-1774742399@www.anzics.org
SUMMARY:SWAN 2026 Trauma\, Critical Care and Emergency Surgery Conference 2026
DESCRIPTION:
URL:https://www.anzics.org/events/swan-2026-trauma-critical-care-and-emergency-surgery-conference-2026/
LOCATION:Sheraton Grand Sydney\, Sydney\, Australia
END:VEVENT
BEGIN:VEVENT
DTSTART;VALUE=DATE:20260330
DTEND;VALUE=DATE:20260401
DTSTAMP:20260424T015653
CREATED:20250820T051152Z
LAST-MODIFIED:20251111T225144Z
UID:12829-1774828800-1775001599@www.anzics.org
SUMMARY:Clinical Leadership in the ICU – Culture\, Communication and Resilience - Sydney
DESCRIPTION:The ANZICS Clinical Leadership Program provides the opportunity for emerging clinical leaders to build tools and frameworks that will define their leadership purpose\, develop skills to negotiate workplace challenges and explore strategies to influence organisational change. \nPartnered by behavioural strategy firm Neuro\, this module on culture communication and leadership is delivered as a two-day workshop with 20 hours of online learning and is part of a bespoke clinical leadership program developed by a multidisciplinary faculty. \nEarly career clinicians working in intensive care across all specialties are invited to attend. \nProgram at a Glance: \nAt the conclusion of this module participants will: \n-Define and discuss pillars of clinical leadership in an ICU environment\, \n-Explore how ICU leaders influence ICU culture and identify behaviours and characteristics that contribute to positive culture in the workplace\, \n-Examine the individual\, team and system dynamics that impact on ICU culture and analyse the role of a ‘safety culture’ in leading and managing organisational performance\, \n-Design a strategy to enhance the psychological safety of an ICU team and formulate a collaborative plan to approach conflict resolution within the workplace\, \n-Identify a leadership challenge in an ICU setting and develop and action plan to facilitate its resolution. \nVenue: (University of Technology\, Sydney) Aerial UTS Function Centre\, \nLevel 7\, Building 10 \n235 Jones St\, Ultimo\, NSW\, 2007 \nCost: \n\nMedical (ANZICS Member) – AUD S1\,650:00\nMedical (non-ANZICS Member) – AUD $1\,870:00\nNursing/Allied Health/Medical Trainee (ANZICS Member) – AUD $880:00\nNursing/Allied Health/Medical Trainee (non-ANZICS Member) – AUD $1\,100:00\n\nRegister here
URL:https://www.anzics.org/events/clinical-leadership-program-sydney/
LOCATION:Aerial UTS Function Centre (University of Technology\, Sydney)\, NSW\, 2007
END:VEVENT
END:VCALENDAR