BEGIN:VCALENDAR
VERSION:2.0
PRODID:-//ANZICS - ECPv6.15.17.1//NONSGML v1.0//EN
CALSCALE:GREGORIAN
METHOD:PUBLISH
X-ORIGINAL-URL:https://www.anzics.org
X-WR-CALDESC:Events for ANZICS
REFRESH-INTERVAL;VALUE=DURATION:PT1H
X-Robots-Tag:noindex
X-PUBLISHED-TTL:PT1H
BEGIN:VTIMEZONE
TZID:Australia/Melbourne
BEGIN:STANDARD
TZOFFSETFROM:+1100
TZOFFSETTO:+1000
TZNAME:AEST
DTSTART:20250405T160000
END:STANDARD
BEGIN:DAYLIGHT
TZOFFSETFROM:+1000
TZOFFSETTO:+1100
TZNAME:AEDT
DTSTART:20251004T160000
END:DAYLIGHT
BEGIN:STANDARD
TZOFFSETFROM:+1100
TZOFFSETTO:+1000
TZNAME:AEST
DTSTART:20260404T160000
END:STANDARD
BEGIN:DAYLIGHT
TZOFFSETFROM:+1000
TZOFFSETTO:+1100
TZNAME:AEDT
DTSTART:20261003T160000
END:DAYLIGHT
BEGIN:STANDARD
TZOFFSETFROM:+1100
TZOFFSETTO:+1000
TZNAME:AEST
DTSTART:20270403T160000
END:STANDARD
BEGIN:DAYLIGHT
TZOFFSETFROM:+1000
TZOFFSETTO:+1100
TZNAME:AEDT
DTSTART:20271002T160000
END:DAYLIGHT
END:VTIMEZONE
BEGIN:VEVENT
DTSTART;TZID=Australia/Melbourne:20260523T080000
DTEND;TZID=Australia/Melbourne:20260523T180000
DTSTAMP:20260424T050246
CREATED:20260331T020507Z
LAST-MODIFIED:20260331T020507Z
UID:13952-1779523200-1779559200@www.anzics.org
SUMMARY:From Spark to Flame: Igniting Your Healthcare Leadership 🔥
DESCRIPTION:A one-day seminar hosted by Mercy Perinatal\, dedicated to exploring leadership pathways in healthcare – across all disciplines\, not just perinatal medicine. \nThis unique event will bring together doctors\, nurses\, midwives and academics from all specialties who are seeking to build their best life in healthcare – whether in their current role\, in a formal leadership position\, or in an adjacent field. \nIn 2026\, this event will be convened by Professor Sue Walker (Obstetrician\, Mercy Hospital for Women) and Associate Professor Stephen Warrillow (Senior Intensivist\, Austin Health)\, joined by expert leaders from across disciplines and across the country. \nJoin us Saturday 23rd May 2026\, in-person at the Melbourne Brain Centre or online via Zoom. \n \nSee below for more amazing speakers and talks!
URL:https://www.anzics.org/events/from-spark-to-flame-igniting-your-healthcare-leadership-%f0%9f%94%a5/
LOCATION:Victoria
END:VEVENT
BEGIN:VEVENT
DTSTART;VALUE=DATE:20260609
DTEND;VALUE=DATE:20260610
DTSTAMP:20260424T050246
CREATED:20260420T021528Z
LAST-MODIFIED:20260420T022745Z
UID:14075-1780963200-1781049599@www.anzics.org
SUMMARY:ANZPIC Registry Study Day 2026
DESCRIPTION:Dear ANZPICR Contributor\, \n  \nWe are pleased to invite you to the ANZPIC Registry Study Day on Tuesday\, 9 June 2026\, at the ANZICS Building (Level 1\, 101 High Street\, Prahran\, VIC 3181) or at a nearby venue (exact location to be confirmed closer to the date). For those unable to attend in person\, a virtual option will be available via Zoom or Microsoft Teams. \n  \nThe Study Day is designed for staff responsible for the collection and coding of registry data. Our aim is to support high-quality data submission by providing a forum for education\, process discussion\, and sharing ideas about future development of the ANZPIC Registry. Participation will also help reduce time spent on data query resolution and cleaning. \n  \nEvent Details: \nDate: Tuesday\, 9 June 2026 \nTime: 9:30 AM – 4:00 PM AEST \nLocation: ANZICS Building (101 High Street\, Prahran\, VIC 3181)\, or nearby (exact location to be confirmed)\, or online via MS Teams or Zoom. \nCost: Free of charge\, with lunch provided (each unit is expected to support their staff’s travel costs). \nWho should attend: Anyone involved in ANZPIC Registry data collection\, though the workshop is particularly suited to data managers and coders. \n  \nThe program will include practical training\, informational sessions\, and open discussions. Past attendees have valued the Study Day for both professional development and networking opportunities. \n  \nFor inquiries\, contact us at anzpic.data@anzics.org \nWe look forward to seeing you there. \n  \n The ANZPIC Registry Team \n  \nIf you’d like to attend\, please complete the form below by 2 June 2026.  \nPlease enable JavaScript in your browser to complete this form.Name *FirstLastEmail *		\n			or yes\, will\n			\n		\n		Hosptial *Current Position *How will you be attending the workshop? *--- Select Choice ---In personOnlineDo you have any dietary requirements? *--- Select Choice ---NA\, I will attend virtuallyNoYesIf yes\, please specify your dietary requirementsComment or MessageSubmit
URL:https://www.anzics.org/events/anzpic-registry-study-day-tuesday-9-june-2026-melbourne-online/
LOCATION:ANZICS\, Melbourne\, Victoria\, 3181\, Australia
END:VEVENT
BEGIN:VEVENT
DTSTART;VALUE=DATE:20260710
DTEND;VALUE=DATE:20260713
DTSTAMP:20260424T050246
CREATED:20251024T044148Z
LAST-MODIFIED:20251024T044148Z
UID:13529-1783641600-1783900799@www.anzics.org
SUMMARY:ASIA PACIFIC INTENSIVE CARE SYMPOSIUM (APICS)
DESCRIPTION:
URL:https://www.anzics.org/events/asia-pacific-intensive-care-symposium-apics/
LOCATION:BALI NUSA DUA CONVENTION CENTER\, Bali\, Indonesia
END:VEVENT
BEGIN:VEVENT
DTSTART;VALUE=DATE:20260722
DTEND;VALUE=DATE:20260725
DTSTAMP:20260424T050246
CREATED:20260331T025838Z
LAST-MODIFIED:20260331T025838Z
UID:13957-1784678400-1784937599@www.anzics.org
SUMMARY:FBI\, CATALYST & Advanced ECLS - Conference Week (Three Day Event)
DESCRIPTION:
URL:https://www.anzics.org/events/fbi-catalyst-advanced-ecls-conference-week-three-day-event/
LOCATION:Victoria
END:VEVENT
BEGIN:VEVENT
DTSTART;TZID=Australia/Melbourne:20260730T080000
DTEND;TZID=Australia/Melbourne:20260731T170000
DTSTAMP:20260424T050246
CREATED:20260407T004514Z
LAST-MODIFIED:20260421T033533Z
UID:13971-1785398400-1785517200@www.anzics.org
SUMMARY:Ramesh Nagappan Intensive Care Medicine Course
DESCRIPTION:The Ramesh Nagappan Intensive Care Medicine Course is a two‑day\, in‑person education programme delivering a comprehensive\, evidence‑based update in intensive care medicine. The course honours the legacy of Associate Professor Ramesh Nagappan\, a highly respected physician\, intensivist\, clinician and educator whose contribution to critical care education continues to have a lasting impact. \nThe programme is designed to support contemporary clinical practice across a broad range of intensive care settings and is delivered by regional and national leaders in critical care. \nWho Should Attend \nThis course is suitable for: \n\n\nIntensive Care Fellows and trainees \n\n\nReturn to work \n\n\nSpecialist intensivists \n\n\nNurses working in critical care \n\n\nAllied health professionals with an interest in intensive care \n\n\nContent is intended to be practical\, evidence‑based\, and relevant to multidisciplinary critical care teams. \nCourse Format \n\n\nTwo‑day\, face‑to‑face programme \n\n\nExpert‑led plenary sessions \n\n\nPractical\, clinically focused topics across key intensive care domains \n\n\nOpportunities for discussion and shared learning \n\n\nAttendance is limited to 150 participants to support an interactive learning environment. \nDate and Venue \nDates:\nThursday 30 – Friday 31 July 2026 \nVenue:\nMonash Health (Clayton)\nGround Floor – Lecture Theatre 1\n246 Clayton Road\nClayton VIC 3168 \nGetting There & Parking  \nTransport and Parking \nMonash Medical Centre is accessible by car and public transport. \n\n\nParking: Paid on‑site parking is available within the hospital precinct. Availability and rates may vary\,  visit:  https://monashhealth.org/patients-visitors/visitor-car-parking/ \n\n\nPublic Transport: The hospital is serviced by bus routes and is within reasonable distance of nearby train station\, visit: https://monashhealth.org/contact/monash-medical-centre/getting-to-monash-medical-centre/ \n\n\n👉 Link to Map: https://www.anzics.org/wp-content/uploads/2026/04/MMCWayfinding20201218-1.pdf \nRegistration Details \n\n\nRegistration is required to attend. \n\n\nPlaces are limited to 150 participants and allocations will be made on a first‑come\, first‑served basis. \n\n\nConfirmation of registration will be sent via email. \n\n\nFurther information regarding: \n\n\nprogramme timing\, \n\n\ncatering\, \n\n\nand any preparation requirements will be provided to registered participants closer to the course date. \n\n\nRegistration: \n \n*CICM members please contact Nikita.Sarswat@anzics.org to obtain a discount registration code.  \nAll fees are exclusive of GST. \n \n  \n 
URL:https://www.anzics.org/events/ramesh-nagappan-intensive-care-medicine-course/
LOCATION:Monash Medical Centre\, 246 Clayton Rd\, Melbourne\, Victoria\, 3168\, Australia
END:VEVENT
BEGIN:VEVENT
DTSTART;VALUE=DATE:20260926
DTEND;VALUE=DATE:20261001
DTSTAMP:20260424T050246
CREATED:20250808T070540Z
LAST-MODIFIED:20250808T070540Z
UID:12768-1790380800-1790812799@www.anzics.org
SUMMARY:WFPICCS 2026 - ANZICS/ACCCN INTENSIVE CARE ASM
DESCRIPTION:
URL:https://www.anzics.org/events/wfpiccs-2026-anzics-acccn-intensive-care-asm/
LOCATION:Melbourne Convention and Exhibition Centre (MCEC)\, 1 Convention Centre Pl\, South Wharf VIC 3006\, Australia\, Melbourne\, Victoria\, Australia
END:VEVENT
BEGIN:VEVENT
DTSTART;VALUE=DATE:20261112
DTEND;VALUE=DATE:20261115
DTSTAMP:20260424T050246
CREATED:20260331T030742Z
LAST-MODIFIED:20260331T043910Z
UID:13961-1794441600-1794700799@www.anzics.org
SUMMARY:ANZICS Safety & Quality Conference 2026
DESCRIPTION:
URL:https://www.anzics.org/events/anzics-safety-quality-conference-2026/
LOCATION:InterContinental Sydney Double Bay
END:VEVENT
END:VCALENDAR